BEGIN:VCALENDAR
VERSION:2.0
PRODID:-//Bristol County Water Authority - ECPv6.15.17.1//NONSGML v1.0//EN
CALSCALE:GREGORIAN
METHOD:PUBLISH
X-ORIGINAL-URL:https://bcwari.com
X-WR-CALDESC:Events for Bristol County Water Authority
REFRESH-INTERVAL;VALUE=DURATION:PT1H
X-Robots-Tag:noindex
X-PUBLISHED-TTL:PT1H
BEGIN:VTIMEZONE
TZID:America/New_York
BEGIN:DAYLIGHT
TZOFFSETFROM:-0500
TZOFFSETTO:-0400
TZNAME:EDT
DTSTART:20210314T070000
END:DAYLIGHT
BEGIN:STANDARD
TZOFFSETFROM:-0400
TZOFFSETTO:-0500
TZNAME:EST
DTSTART:20211107T060000
END:STANDARD
BEGIN:DAYLIGHT
TZOFFSETFROM:-0500
TZOFFSETTO:-0400
TZNAME:EDT
DTSTART:20220313T070000
END:DAYLIGHT
BEGIN:STANDARD
TZOFFSETFROM:-0400
TZOFFSETTO:-0500
TZNAME:EST
DTSTART:20221106T060000
END:STANDARD
BEGIN:DAYLIGHT
TZOFFSETFROM:-0500
TZOFFSETTO:-0400
TZNAME:EDT
DTSTART:20230312T070000
END:DAYLIGHT
BEGIN:STANDARD
TZOFFSETFROM:-0400
TZOFFSETTO:-0500
TZNAME:EST
DTSTART:20231105T060000
END:STANDARD
BEGIN:DAYLIGHT
TZOFFSETFROM:-0500
TZOFFSETTO:-0400
TZNAME:EDT
DTSTART:20240310T070000
END:DAYLIGHT
BEGIN:STANDARD
TZOFFSETFROM:-0400
TZOFFSETTO:-0500
TZNAME:EST
DTSTART:20241103T060000
END:STANDARD
BEGIN:DAYLIGHT
TZOFFSETFROM:-0500
TZOFFSETTO:-0400
TZNAME:EDT
DTSTART:20250309T070000
END:DAYLIGHT
BEGIN:STANDARD
TZOFFSETFROM:-0400
TZOFFSETTO:-0500
TZNAME:EST
DTSTART:20251102T060000
END:STANDARD
END:VTIMEZONE
BEGIN:VEVENT
DTSTART;TZID=America/New_York:20240327T170000
DTEND;TZID=America/New_York:20240327T190000
DTSTAMP:20260422T131000
CREATED:20231115T175125Z
LAST-MODIFIED:20240322T184030Z
UID:10000584-1711558800-1711566000@bcwari.com
SUMMARY:Board of Directors Meeting
DESCRIPTION:450 Child St – Board of Directors meeting room
URL:https://bcwari.com/event/board-of-directors-meeting-79/
LOCATION:450 Child St – Board of Directors meeting room\, 450 Child Street\, Warren\, RI\, 02885\, United States
GEO:41.7295903;-71.2660282
X-APPLE-STRUCTURED-LOCATION;VALUE=URI;X-ADDRESS=450 Child St – Board of Directors meeting room 450 Child Street Warren RI 02885 United States;X-APPLE-RADIUS=500;X-TITLE=450 Child Street:geo:-71.2660282,41.7295903
END:VEVENT
BEGIN:VEVENT
DTSTART;TZID=America/New_York:20240327T164500
DTEND;TZID=America/New_York:20240327T170000
DTSTAMP:20260422T131000
CREATED:20240322T183850Z
LAST-MODIFIED:20240322T183913Z
UID:10000598-1711557900-1711558800@bcwari.com
SUMMARY:Personnel Committee Meeting
DESCRIPTION:450 Child St – Board of Directors meeting room
URL:https://bcwari.com/event/personnel-committee-meeting-11/
LOCATION:450 Child St – Board of Directors meeting room\, 450 Child Street\, Warren\, RI\, 02885\, United States
GEO:41.7295903;-71.2660282
X-APPLE-STRUCTURED-LOCATION;VALUE=URI;X-ADDRESS=450 Child St – Board of Directors meeting room 450 Child Street Warren RI 02885 United States;X-APPLE-RADIUS=500;X-TITLE=450 Child Street:geo:-71.2660282,41.7295903
END:VEVENT
BEGIN:VEVENT
DTSTART;TZID=America/New_York:20240222T170000
DTEND;TZID=America/New_York:20240222T190000
DTSTAMP:20260422T131000
CREATED:20231115T174647Z
LAST-MODIFIED:20240216T183107Z
UID:10000583-1708621200-1708628400@bcwari.com
SUMMARY:Board of Directors Meeting
DESCRIPTION:450 Child St – Board of Directors meeting room
URL:https://bcwari.com/event/board-of-directors-meeting-77/
LOCATION:450 Child St – Board of Directors meeting room\, 450 Child Street\, Warren\, RI\, 02885\, United States
GEO:41.7295903;-71.2660282
X-APPLE-STRUCTURED-LOCATION;VALUE=URI;X-ADDRESS=450 Child St – Board of Directors meeting room 450 Child Street Warren RI 02885 United States;X-APPLE-RADIUS=500;X-TITLE=450 Child Street:geo:-71.2660282,41.7295903
END:VEVENT
BEGIN:VEVENT
DTSTART;TZID=America/New_York:20240222T163000
DTEND;TZID=America/New_York:20240222T170000
DTSTAMP:20260422T131000
CREATED:20240216T183003Z
LAST-MODIFIED:20240216T183003Z
UID:10000597-1708619400-1708621200@bcwari.com
SUMMARY:Personnel Committee Meeting
DESCRIPTION:450 Child St – Board of Directors meeting room
URL:https://bcwari.com/event/personnel-committee-meeting-10/
LOCATION:450 Child St – Board of Directors meeting room\, 450 Child Street\, Warren\, RI\, 02885\, United States
GEO:41.7295903;-71.2660282
X-APPLE-STRUCTURED-LOCATION;VALUE=URI;X-ADDRESS=450 Child St – Board of Directors meeting room 450 Child Street Warren RI 02885 United States;X-APPLE-RADIUS=500;X-TITLE=450 Child Street:geo:-71.2660282,41.7295903
END:VEVENT
BEGIN:VEVENT
DTSTART;TZID=America/New_York:20240123T173000
DTEND;TZID=America/New_York:20240123T193000
DTSTAMP:20260422T131000
CREATED:20231115T174412Z
LAST-MODIFIED:20240117T163555Z
UID:10000582-1706031000-1706038200@bcwari.com
SUMMARY:Board of Directors Meeting
DESCRIPTION:450 Child St – Board of Directors meeting room
URL:https://bcwari.com/event/board-of-directors-meeting-76/
LOCATION:450 Child St – Board of Directors meeting room\, 450 Child Street\, Warren\, RI\, 02885\, United States
GEO:41.7295903;-71.2660282
X-APPLE-STRUCTURED-LOCATION;VALUE=URI;X-ADDRESS=450 Child St – Board of Directors meeting room 450 Child Street Warren RI 02885 United States;X-APPLE-RADIUS=500;X-TITLE=450 Child Street:geo:-71.2660282,41.7295903
END:VEVENT
BEGIN:VEVENT
DTSTART;TZID=America/New_York:20240123T170000
DTEND;TZID=America/New_York:20240123T173000
DTSTAMP:20260422T131000
CREATED:20240103T144709Z
LAST-MODIFIED:20240103T144709Z
UID:10000596-1706029200-1706031000@bcwari.com
SUMMARY:Public Hearing
DESCRIPTION:450 Child St – Board of Directors meeting room
URL:https://bcwari.com/event/public-hearing-6/
LOCATION:450 Child St – Board of Directors meeting room\, 450 Child Street\, Warren\, RI\, 02885\, United States
GEO:41.7295903;-71.2660282
X-APPLE-STRUCTURED-LOCATION;VALUE=URI;X-ADDRESS=450 Child St – Board of Directors meeting room 450 Child Street Warren RI 02885 United States;X-APPLE-RADIUS=500;X-TITLE=450 Child Street:geo:-71.2660282,41.7295903
END:VEVENT
BEGIN:VEVENT
DTSTART;TZID=America/New_York:20231206T170000
DTEND;TZID=America/New_York:20231206T190000
DTSTAMP:20260422T131000
CREATED:20221221T201546Z
LAST-MODIFIED:20231201T161204Z
UID:10000565-1701882000-1701889200@bcwari.com
SUMMARY:Board of Directors Meeting
DESCRIPTION:450 Child St – Board of Directors meeting room
URL:https://bcwari.com/event/board-of-directors-meeting-73/
LOCATION:450 Child St – Board of Directors meeting room\, 450 Child Street\, Warren\, RI\, 02885\, United States
GEO:41.7295903;-71.2660282
X-APPLE-STRUCTURED-LOCATION;VALUE=URI;X-ADDRESS=450 Child St – Board of Directors meeting room 450 Child Street Warren RI 02885 United States;X-APPLE-RADIUS=500;X-TITLE=450 Child Street:geo:-71.2660282,41.7295903
END:VEVENT
BEGIN:VEVENT
DTSTART;TZID=America/New_York:20231206T164500
DTEND;TZID=America/New_York:20231206T170000
DTSTAMP:20260422T131000
CREATED:20231201T161108Z
LAST-MODIFIED:20231201T161108Z
UID:10000595-1701881100-1701882000@bcwari.com
SUMMARY:Finance Committee Meeting
DESCRIPTION:450 Child St – Board of Directors meeting room
URL:https://bcwari.com/event/finance-committee-meeting-11/
LOCATION:450 Child St – Board of Directors meeting room\, 450 Child Street\, Warren\, RI\, 02885\, United States
GEO:41.7295903;-71.2660282
X-APPLE-STRUCTURED-LOCATION;VALUE=URI;X-ADDRESS=450 Child St – Board of Directors meeting room 450 Child Street Warren RI 02885 United States;X-APPLE-RADIUS=500;X-TITLE=450 Child Street:geo:-71.2660282,41.7295903
END:VEVENT
BEGIN:VEVENT
DTSTART;TZID=America/New_York:20231130T163000
DTEND;TZID=America/New_York:20231130T173000
DTSTAMP:20260422T131000
CREATED:20231121T185825Z
LAST-MODIFIED:20231121T185825Z
UID:10000594-1701361800-1701365400@bcwari.com
SUMMARY:Personnel Committee Meeting
DESCRIPTION:450 Child St – Board of Directors meeting room
URL:https://bcwari.com/event/personnel-committee-meeting-9/
LOCATION:450 Child St – Board of Directors meeting room\, 450 Child Street\, Warren\, RI\, 02885\, United States
GEO:41.7295903;-71.2660282
X-APPLE-STRUCTURED-LOCATION;VALUE=URI;X-ADDRESS=450 Child St – Board of Directors meeting room 450 Child Street Warren RI 02885 United States;X-APPLE-RADIUS=500;X-TITLE=450 Child Street:geo:-71.2660282,41.7295903
END:VEVENT
BEGIN:VEVENT
DTSTART;TZID=America/New_York:20231115T163000
DTEND;TZID=America/New_York:20231115T173000
DTSTAMP:20260422T131000
CREATED:20231109T142106Z
LAST-MODIFIED:20231109T142106Z
UID:10000581-1700065800-1700069400@bcwari.com
SUMMARY:Finance Committee Meeting
DESCRIPTION:450 Child St – Board of Directors meeting room
URL:https://bcwari.com/event/finance-committee-meeting-10/
LOCATION:450 Child St – Board of Directors meeting room\, 450 Child Street\, Warren\, RI\, 02885\, United States
GEO:41.7295903;-71.2660282
X-APPLE-STRUCTURED-LOCATION;VALUE=URI;X-ADDRESS=450 Child St – Board of Directors meeting room 450 Child Street Warren RI 02885 United States;X-APPLE-RADIUS=500;X-TITLE=450 Child Street:geo:-71.2660282,41.7295903
END:VEVENT
BEGIN:VEVENT
DTSTART;TZID=America/New_York:20231026T170000
DTEND;TZID=America/New_York:20231026T190000
DTSTAMP:20260422T131000
CREATED:20231020T151836Z
LAST-MODIFIED:20231020T151836Z
UID:10000577-1698339600-1698346800@bcwari.com
SUMMARY:Board of Directors Meeting
DESCRIPTION:450 Child St – Board of Directors meeting room
URL:https://bcwari.com/event/board-of-directors-meeting-70-10/
LOCATION:450 Child St – Board of Directors meeting room\, 450 Child Street\, Warren\, RI\, 02885\, United States
GEO:41.7295903;-71.2660282
X-APPLE-STRUCTURED-LOCATION;VALUE=URI;X-ADDRESS=450 Child St – Board of Directors meeting room 450 Child Street Warren RI 02885 United States;X-APPLE-RADIUS=500;X-TITLE=450 Child Street:geo:-71.2660282,41.7295903
END:VEVENT
BEGIN:VEVENT
DTSTART;TZID=America/New_York:20230928T170000
DTEND;TZID=America/New_York:20230928T190000
DTSTAMP:20260422T131000
CREATED:20230922T190508Z
LAST-MODIFIED:20230922T190519Z
UID:10000576-1695920400-1695927600@bcwari.com
SUMMARY:Board of Directors Meeting
DESCRIPTION:450 Child St – Board of Directors meeting room
URL:https://bcwari.com/event/board-of-directors-meeting-70-9/
LOCATION:450 Child St – Board of Directors meeting room\, 450 Child Street\, Warren\, RI\, 02885\, United States
GEO:41.7295903;-71.2660282
X-APPLE-STRUCTURED-LOCATION;VALUE=URI;X-ADDRESS=450 Child St – Board of Directors meeting room 450 Child Street Warren RI 02885 United States;X-APPLE-RADIUS=500;X-TITLE=450 Child Street:geo:-71.2660282,41.7295903
END:VEVENT
BEGIN:VEVENT
DTSTART;TZID=America/New_York:20230928T160000
DTEND;TZID=America/New_York:20230928T170000
DTSTAMP:20260422T131000
CREATED:20230922T190645Z
LAST-MODIFIED:20230922T190731Z
UID:10000580-1695916800-1695920400@bcwari.com
SUMMARY:Policy Committee Meeting
DESCRIPTION:450 Child St – Board of Directors meeting room
URL:https://bcwari.com/event/09-28-23-policy-committee-meeting/
LOCATION:450 Child St – Board of Directors meeting room\, 450 Child Street\, Warren\, RI\, 02885\, United States
GEO:41.7295903;-71.2660282
X-APPLE-STRUCTURED-LOCATION;VALUE=URI;X-ADDRESS=450 Child St – Board of Directors meeting room 450 Child Street Warren RI 02885 United States;X-APPLE-RADIUS=500;X-TITLE=450 Child Street:geo:-71.2660282,41.7295903
END:VEVENT
BEGIN:VEVENT
DTSTART;TZID=America/New_York:20230824T170000
DTEND;TZID=America/New_York:20230824T190000
DTSTAMP:20260422T131000
CREATED:20230818T181824Z
LAST-MODIFIED:20230818T181825Z
UID:10000575-1692896400-1692903600@bcwari.com
SUMMARY:Board of Directors Meeting
DESCRIPTION:450 Child St – Board of Directors meeting room
URL:https://bcwari.com/event/board-of-directors-meeting-70-8/
LOCATION:450 Child St – Board of Directors meeting room\, 450 Child Street\, Warren\, RI\, 02885\, United States
GEO:41.7295903;-71.2660282
X-APPLE-STRUCTURED-LOCATION;VALUE=URI;X-ADDRESS=450 Child St – Board of Directors meeting room 450 Child Street Warren RI 02885 United States;X-APPLE-RADIUS=500;X-TITLE=450 Child Street:geo:-71.2660282,41.7295903
END:VEVENT
BEGIN:VEVENT
DTSTART;TZID=America/New_York:20230727T170000
DTEND;TZID=America/New_York:20230727T190000
DTSTAMP:20260422T131000
CREATED:20230721T145815Z
LAST-MODIFIED:20230721T145815Z
UID:10000574-1690477200-1690484400@bcwari.com
SUMMARY:Board of Directors Meeting
DESCRIPTION:450 Child St – Board of Directors meeting room
URL:https://bcwari.com/event/board-of-directors-meeting-70-7/
LOCATION:450 Child St – Board of Directors meeting room\, 450 Child Street\, Warren\, RI\, 02885\, United States
GEO:41.7295903;-71.2660282
X-APPLE-STRUCTURED-LOCATION;VALUE=URI;X-ADDRESS=450 Child St – Board of Directors meeting room 450 Child Street Warren RI 02885 United States;X-APPLE-RADIUS=500;X-TITLE=450 Child Street:geo:-71.2660282,41.7295903
END:VEVENT
BEGIN:VEVENT
DTSTART;TZID=America/New_York:20230629T170000
DTEND;TZID=America/New_York:20230629T190000
DTSTAMP:20260422T131000
CREATED:20230619T143225Z
LAST-MODIFIED:20230623T150722Z
UID:10000573-1688058000-1688065200@bcwari.com
SUMMARY:Board of Directors Meeting
DESCRIPTION:450 Child St – Board of Directors meeting room
URL:https://bcwari.com/event/board-of-directors-meeting-75/
LOCATION:450 Child St – Board of Directors meeting room\, 450 Child Street\, Warren\, RI\, 02885\, United States
GEO:41.7295903;-71.2660282
X-APPLE-STRUCTURED-LOCATION;VALUE=URI;X-ADDRESS=450 Child St – Board of Directors meeting room 450 Child Street Warren RI 02885 United States;X-APPLE-RADIUS=500;X-TITLE=450 Child Street:geo:-71.2660282,41.7295903
END:VEVENT
BEGIN:VEVENT
DTSTART;TZID=America/New_York:20230525T173000
DTEND;TZID=America/New_York:20230525T193000
DTSTAMP:20260422T131000
CREATED:20230426T194944Z
LAST-MODIFIED:20230519T140756Z
UID:10000572-1685035800-1685043000@bcwari.com
SUMMARY:Board of Directors Meeting
DESCRIPTION:450 Child St – Board of Directors meeting room
URL:https://bcwari.com/event/board-of-directors-meeting-70-6/
LOCATION:450 Child St – Board of Directors meeting room\, 450 Child Street\, Warren\, RI\, 02885\, United States
GEO:41.7295903;-71.2660282
X-APPLE-STRUCTURED-LOCATION;VALUE=URI;X-ADDRESS=450 Child St – Board of Directors meeting room 450 Child Street Warren RI 02885 United States;X-APPLE-RADIUS=500;X-TITLE=450 Child Street:geo:-71.2660282,41.7295903
END:VEVENT
BEGIN:VEVENT
DTSTART;TZID=America/New_York:20230525T170000
DTEND;TZID=America/New_York:20230525T173000
DTSTAMP:20260422T131000
CREATED:20230426T192918Z
LAST-MODIFIED:20230519T140724Z
UID:10000579-1685034000-1685035800@bcwari.com
SUMMARY:Annual Meeting
DESCRIPTION:450 Child St – Board of Directors meeting room
URL:https://bcwari.com/event/annual-meeting-7/
LOCATION:450 Child St – Board of Directors meeting room\, 450 Child Street\, Warren\, RI\, 02885\, United States
GEO:41.7295903;-71.2660282
X-APPLE-STRUCTURED-LOCATION;VALUE=URI;X-ADDRESS=450 Child St – Board of Directors meeting room 450 Child Street Warren RI 02885 United States;X-APPLE-RADIUS=500;X-TITLE=450 Child Street:geo:-71.2660282,41.7295903
END:VEVENT
BEGIN:VEVENT
DTSTART;TZID=America/New_York:20230427T170000
DTEND;TZID=America/New_York:20230427T190000
DTSTAMP:20260422T131000
CREATED:20230421T134043Z
LAST-MODIFIED:20230421T134043Z
UID:10000571-1682614800-1682622000@bcwari.com
SUMMARY:Board of Directors Meeting
DESCRIPTION:450 Child St – Board of Directors meeting room
URL:https://bcwari.com/event/board-of-directors-meeting-70-5/
LOCATION:450 Child St – Board of Directors meeting room\, 450 Child Street\, Warren\, RI\, 02885\, United States
GEO:41.7295903;-71.2660282
X-APPLE-STRUCTURED-LOCATION;VALUE=URI;X-ADDRESS=450 Child St – Board of Directors meeting room 450 Child Street Warren RI 02885 United States;X-APPLE-RADIUS=500;X-TITLE=450 Child Street:geo:-71.2660282,41.7295903
END:VEVENT
BEGIN:VEVENT
DTSTART;TZID=America/New_York:20230323T170000
DTEND;TZID=America/New_York:20230323T190000
DTSTAMP:20260422T131000
CREATED:20230317T145627Z
LAST-MODIFIED:20230317T145627Z
UID:10000570-1679590800-1679598000@bcwari.com
SUMMARY:Board of Directors Meeting
DESCRIPTION:450 Child St – Board of Directors meeting room
URL:https://bcwari.com/event/board-of-directors-meeting-70-4/
LOCATION:450 Child St – Board of Directors meeting room\, 450 Child Street\, Warren\, RI\, 02885\, United States
GEO:41.7295903;-71.2660282
X-APPLE-STRUCTURED-LOCATION;VALUE=URI;X-ADDRESS=450 Child St – Board of Directors meeting room 450 Child Street Warren RI 02885 United States;X-APPLE-RADIUS=500;X-TITLE=450 Child Street:geo:-71.2660282,41.7295903
END:VEVENT
BEGIN:VEVENT
DTSTART;TZID=America/New_York:20230223T170000
DTEND;TZID=America/New_York:20230223T190000
DTSTAMP:20260422T131000
CREATED:20230217T155131Z
LAST-MODIFIED:20230222T185253Z
UID:10000569-1677171600-1677178800@bcwari.com
SUMMARY:Board of Directors Meeting
DESCRIPTION:450 Child St – Board of Directors meeting room
URL:https://bcwari.com/event/board-of-directors-meeting-74/
LOCATION:450 Child St – Board of Directors meeting room\, 450 Child Street\, Warren\, RI\, 02885\, United States
GEO:41.7295903;-71.2660282
X-APPLE-STRUCTURED-LOCATION;VALUE=URI;X-ADDRESS=450 Child St – Board of Directors meeting room 450 Child Street Warren RI 02885 United States;X-APPLE-RADIUS=500;X-TITLE=450 Child Street:geo:-71.2660282,41.7295903
END:VEVENT
BEGIN:VEVENT
DTSTART;TZID=America/New_York:20230223T163000
DTEND;TZID=America/New_York:20230223T170000
DTSTAMP:20260422T131000
CREATED:20230217T180130Z
LAST-MODIFIED:20230217T180130Z
UID:10000578-1677169800-1677171600@bcwari.com
SUMMARY:Personnel/Compensation Committee Meeting
DESCRIPTION:450 Child St – Board of Directors meeting room
URL:https://bcwari.com/event/personnel-compensation-committee-meeting-7/
LOCATION:450 Child St – Board of Directors meeting room\, 450 Child Street\, Warren\, RI\, 02885\, United States
GEO:41.7295903;-71.2660282
X-APPLE-STRUCTURED-LOCATION;VALUE=URI;X-ADDRESS=450 Child St – Board of Directors meeting room 450 Child Street Warren RI 02885 United States;X-APPLE-RADIUS=500;X-TITLE=450 Child Street:geo:-71.2660282,41.7295903
END:VEVENT
BEGIN:VEVENT
DTSTART;TZID=America/New_York:20230126T173000
DTEND;TZID=America/New_York:20230126T193000
DTSTAMP:20260422T131000
CREATED:20230120T161240Z
LAST-MODIFIED:20230120T170407Z
UID:10000554-1674754200-1674761400@bcwari.com
SUMMARY:Board of Directors Meeting
DESCRIPTION:450 Child St – Board of Directors meeting room
URL:https://bcwari.com/event/board-of-directors-meeting-70-2/
LOCATION:450 Child St – Board of Directors meeting room\, 450 Child Street\, Warren\, RI\, 02885\, United States
GEO:41.7295903;-71.2660282
X-APPLE-STRUCTURED-LOCATION;VALUE=URI;X-ADDRESS=450 Child St – Board of Directors meeting room 450 Child Street Warren RI 02885 United States;X-APPLE-RADIUS=500;X-TITLE=450 Child Street:geo:-71.2660282,41.7295903
END:VEVENT
BEGIN:VEVENT
DTSTART;TZID=America/New_York:20230126T170000
DTEND;TZID=America/New_York:20230126T173000
DTSTAMP:20260422T131000
CREATED:20230111T164912Z
LAST-MODIFIED:20230111T164912Z
UID:10000566-1674752400-1674754200@bcwari.com
SUMMARY:Public Hearing
DESCRIPTION:450 Child St – Board of Directors meeting room
URL:https://bcwari.com/event/public-hearing-5/
LOCATION:450 Child St – Board of Directors meeting room\, 450 Child Street\, Warren\, RI\, 02885\, United States
GEO:41.7295903;-71.2660282
X-APPLE-STRUCTURED-LOCATION;VALUE=URI;X-ADDRESS=450 Child St – Board of Directors meeting room 450 Child Street Warren RI 02885 United States;X-APPLE-RADIUS=500;X-TITLE=450 Child Street:geo:-71.2660282,41.7295903
END:VEVENT
BEGIN:VEVENT
DTSTART;TZID=America/New_York:20230126T164500
DTEND;TZID=America/New_York:20230126T170000
DTSTAMP:20260422T131000
CREATED:20230120T161122Z
LAST-MODIFIED:20230120T170325Z
UID:10000568-1674751500-1674752400@bcwari.com
SUMMARY:Finance/Claims Committee Meeting
DESCRIPTION:450 Child St – Board of Directors meeting room
URL:https://bcwari.com/event/finance-claims-committee-meeting-8/
LOCATION:450 Child St – Board of Directors meeting room\, 450 Child Street\, Warren\, RI\, 02885\, United States
GEO:41.7295903;-71.2660282
X-APPLE-STRUCTURED-LOCATION;VALUE=URI;X-ADDRESS=450 Child St – Board of Directors meeting room 450 Child Street Warren RI 02885 United States;X-APPLE-RADIUS=500;X-TITLE=450 Child Street:geo:-71.2660282,41.7295903
END:VEVENT
BEGIN:VEVENT
DTSTART;TZID=America/New_York:20230118T153000
DTEND;TZID=America/New_York:20230118T163000
DTSTAMP:20260422T131000
CREATED:20230112T143736Z
LAST-MODIFIED:20230112T143736Z
UID:10000567-1674055800-1674059400@bcwari.com
SUMMARY:Personnel Committee Meeting
DESCRIPTION:450 Child St – Board of Directors meeting room
URL:https://bcwari.com/event/personnel-committee-meeting-8/
LOCATION:450 Child St – Board of Directors meeting room\, 450 Child Street\, Warren\, RI\, 02885\, United States
GEO:41.7295903;-71.2660282
X-APPLE-STRUCTURED-LOCATION;VALUE=URI;X-ADDRESS=450 Child St – Board of Directors meeting room 450 Child Street Warren RI 02885 United States;X-APPLE-RADIUS=500;X-TITLE=450 Child Street:geo:-71.2660282,41.7295903
END:VEVENT
BEGIN:VEVENT
DTSTART;TZID=America/New_York:20221207T170000
DTEND;TZID=America/New_York:20221207T190000
DTSTAMP:20260422T131000
CREATED:20211203T155152Z
LAST-MODIFIED:20221201T190236Z
UID:10000543-1670432400-1670439600@bcwari.com
SUMMARY:Board of Directors Meeting
DESCRIPTION:450 Child St – Board of Directors meeting room
URL:https://bcwari.com/event/board-of-directors-meeting-71/
LOCATION:450 Child St – Board of Directors meeting room\, 450 Child Street\, Warren\, RI\, 02885\, United States
GEO:41.7295903;-71.2660282
X-APPLE-STRUCTURED-LOCATION;VALUE=URI;X-ADDRESS=450 Child St – Board of Directors meeting room 450 Child Street Warren RI 02885 United States;X-APPLE-RADIUS=500;X-TITLE=450 Child Street:geo:-71.2660282,41.7295903
END:VEVENT
BEGIN:VEVENT
DTSTART;TZID=America/New_York:20221117T163000
DTEND;TZID=America/New_York:20221117T183000
DTSTAMP:20260422T131000
CREATED:20221110T151413Z
LAST-MODIFIED:20221110T165333Z
UID:10000553-1668702600-1668709800@bcwari.com
SUMMARY:Finance Committee Meeting
DESCRIPTION:450 Child St – Board of Directors meeting room
URL:https://bcwari.com/event/finance-committee-meeting-9/
LOCATION:450 Child St – Board of Directors meeting room\, 450 Child Street\, Warren\, RI\, 02885\, United States
GEO:41.7295903;-71.2660282
X-APPLE-STRUCTURED-LOCATION;VALUE=URI;X-ADDRESS=450 Child St – Board of Directors meeting room 450 Child Street Warren RI 02885 United States;X-APPLE-RADIUS=500;X-TITLE=450 Child Street:geo:-71.2660282,41.7295903
END:VEVENT
BEGIN:VEVENT
DTSTART;TZID=America/New_York:20221027T170000
DTEND;TZID=America/New_York:20221027T190000
DTSTAMP:20260422T131000
CREATED:20211203T154941Z
LAST-MODIFIED:20221021T151610Z
UID:10000542-1666890000-1666897200@bcwari.com
SUMMARY:Board of Directors Meeting
DESCRIPTION:450 Child St – Board of Directors meeting room
URL:https://bcwari.com/event/board-of-directors-meeting-69/
LOCATION:450 Child St – Board of Directors meeting room\, 450 Child Street\, Warren\, RI\, 02885\, United States
GEO:41.7295903;-71.2660282
X-APPLE-STRUCTURED-LOCATION;VALUE=URI;X-ADDRESS=450 Child St – Board of Directors meeting room 450 Child Street Warren RI 02885 United States;X-APPLE-RADIUS=500;X-TITLE=450 Child Street:geo:-71.2660282,41.7295903
END:VEVENT
BEGIN:VEVENT
DTSTART;TZID=America/New_York:20220922T170000
DTEND;TZID=America/New_York:20220922T190000
DTSTAMP:20260422T131000
CREATED:20211203T154855Z
LAST-MODIFIED:20220919T124838Z
UID:10000541-1663866000-1663873200@bcwari.com
SUMMARY:Board of Directors Meeting
DESCRIPTION:450 Child St – Board of Directors meeting room
URL:https://bcwari.com/event/board-of-directors-meeting-68/
LOCATION:450 Child St – Board of Directors meeting room\, 450 Child Street\, Warren\, RI\, 02885\, United States
GEO:41.7295903;-71.2660282
X-APPLE-STRUCTURED-LOCATION;VALUE=URI;X-ADDRESS=450 Child St – Board of Directors meeting room 450 Child Street Warren RI 02885 United States;X-APPLE-RADIUS=500;X-TITLE=450 Child Street:geo:-71.2660282,41.7295903
END:VEVENT
END:VCALENDAR