BEGIN:VCALENDAR
VERSION:2.0
PRODID:-//Bristol County Water Authority - ECPv6.15.17.1//NONSGML v1.0//EN
CALSCALE:GREGORIAN
METHOD:PUBLISH
X-WR-CALNAME:Bristol County Water Authority
X-ORIGINAL-URL:https://bcwari.com
X-WR-CALDESC:Events for Bristol County Water Authority
REFRESH-INTERVAL;VALUE=DURATION:PT1H
X-Robots-Tag:noindex
X-PUBLISHED-TTL:PT1H
BEGIN:VTIMEZONE
TZID:America/New_York
BEGIN:DAYLIGHT
TZOFFSETFROM:-0500
TZOFFSETTO:-0400
TZNAME:EDT
DTSTART:20190310T070000
END:DAYLIGHT
BEGIN:STANDARD
TZOFFSETFROM:-0400
TZOFFSETTO:-0500
TZNAME:EST
DTSTART:20191103T060000
END:STANDARD
BEGIN:DAYLIGHT
TZOFFSETFROM:-0500
TZOFFSETTO:-0400
TZNAME:EDT
DTSTART:20200308T070000
END:DAYLIGHT
BEGIN:STANDARD
TZOFFSETFROM:-0400
TZOFFSETTO:-0500
TZNAME:EST
DTSTART:20201101T060000
END:STANDARD
BEGIN:DAYLIGHT
TZOFFSETFROM:-0500
TZOFFSETTO:-0400
TZNAME:EDT
DTSTART:20210314T070000
END:DAYLIGHT
BEGIN:STANDARD
TZOFFSETFROM:-0400
TZOFFSETTO:-0500
TZNAME:EST
DTSTART:20211107T060000
END:STANDARD
BEGIN:DAYLIGHT
TZOFFSETFROM:-0500
TZOFFSETTO:-0400
TZNAME:EDT
DTSTART:20220313T070000
END:DAYLIGHT
BEGIN:STANDARD
TZOFFSETFROM:-0400
TZOFFSETTO:-0500
TZNAME:EST
DTSTART:20221106T060000
END:STANDARD
BEGIN:DAYLIGHT
TZOFFSETFROM:-0500
TZOFFSETTO:-0400
TZNAME:EDT
DTSTART:20230312T070000
END:DAYLIGHT
BEGIN:STANDARD
TZOFFSETFROM:-0400
TZOFFSETTO:-0500
TZNAME:EST
DTSTART:20231105T060000
END:STANDARD
END:VTIMEZONE
BEGIN:VEVENT
DTSTART;TZID=America/New_York:20220324T170000
DTEND;TZID=America/New_York:20220324T190000
DTSTAMP:20260422T143721
CREATED:20211203T154105Z
LAST-MODIFIED:20220318T185805Z
UID:10000539-1648141200-1648148400@bcwari.com
SUMMARY:Board of Directors Meeting
DESCRIPTION:450 Child St – Board of Directors meeting room
URL:https://bcwari.com/event/board-of-directors-meeting-62/
LOCATION:450 Child St – Board of Directors meeting room\, 450 Child Street\, Warren\, RI\, 02885\, United States
GEO:41.7295903;-71.2660282
X-APPLE-STRUCTURED-LOCATION;VALUE=URI;X-ADDRESS=450 Child St – Board of Directors meeting room 450 Child Street Warren RI 02885 United States;X-APPLE-RADIUS=500;X-TITLE=450 Child Street:geo:-71.2660282,41.7295903
END:VEVENT
BEGIN:VEVENT
DTSTART;TZID=America/New_York:20220317T170000
DTEND;TZID=America/New_York:20220317T180000
DTSTAMP:20260422T143721
CREATED:20220311T163614Z
LAST-MODIFIED:20220405T162421Z
UID:10000547-1647536400-1647540000@bcwari.com
SUMMARY:Special Board of Directors Meeting
DESCRIPTION:450 Child St – Board of Directors meeting room
URL:https://bcwari.com/event/special-board-of-directors-meeting-8/
LOCATION:450 Child St – Board of Directors meeting room\, 450 Child Street\, Warren\, RI\, 02885\, United States
GEO:41.7295903;-71.2660282
X-APPLE-STRUCTURED-LOCATION;VALUE=URI;X-ADDRESS=450 Child St – Board of Directors meeting room 450 Child Street Warren RI 02885 United States;X-APPLE-RADIUS=500;X-TITLE=450 Child Street:geo:-71.2660282,41.7295903
END:VEVENT
BEGIN:VEVENT
DTSTART;TZID=America/New_York:20220224T170000
DTEND;TZID=America/New_York:20220224T190000
DTSTAMP:20260422T143721
CREATED:20211203T153959Z
LAST-MODIFIED:20220222T145505Z
UID:10000538-1645722000-1645729200@bcwari.com
SUMMARY:Board of Directors Meeting
DESCRIPTION:Click here to download the board documents \n\n		\n			\n			\n		\n\n		\n  \n450 Child St – Board of Directors meeting room
URL:https://bcwari.com/event/board-of-directors-meeting-61/
LOCATION:450 Child St – Board of Directors meeting room\, 450 Child Street\, Warren\, RI\, 02885\, United States
GEO:41.7295903;-71.2660282
X-APPLE-STRUCTURED-LOCATION;VALUE=URI;X-ADDRESS=450 Child St – Board of Directors meeting room 450 Child Street Warren RI 02885 United States;X-APPLE-RADIUS=500;X-TITLE=450 Child Street:geo:-71.2660282,41.7295903
END:VEVENT
BEGIN:VEVENT
DTSTART;TZID=America/New_York:20220127T183000
DTEND;TZID=America/New_York:20220127T210000
DTSTAMP:20260422T143721
CREATED:20211203T153759Z
LAST-MODIFIED:20220125T174823Z
UID:10000535-1643308200-1643317200@bcwari.com
SUMMARY:Board of Directors Meeting
DESCRIPTION:Click here to download the meeting documents \n  \n\n		\n			\n			\n		\n\n		\n450 Child St – Board of Directors meeting room
URL:https://bcwari.com/event/board-of-directors-meeting-50/
LOCATION:450 Child St – Board of Directors meeting room\, 450 Child Street\, Warren\, RI\, 02885\, United States
GEO:41.7295903;-71.2660282
X-APPLE-STRUCTURED-LOCATION;VALUE=URI;X-ADDRESS=450 Child St – Board of Directors meeting room 450 Child Street Warren RI 02885 United States;X-APPLE-RADIUS=500;X-TITLE=450 Child Street:geo:-71.2660282,41.7295903
END:VEVENT
BEGIN:VEVENT
DTSTART;TZID=America/New_York:20220127T180000
DTEND;TZID=America/New_York:20220127T183000
DTSTAMP:20260422T143721
CREATED:20220112T181431Z
LAST-MODIFIED:20220112T183235Z
UID:10000545-1643306400-1643308200@bcwari.com
SUMMARY:Notice of Public Hearing
DESCRIPTION:Click here to view the meeting PowerPoint \n\n		\n			\n			\n		\n\n		\n450 Child St – Board of Directors meeting room
URL:https://bcwari.com/event/notice-of-public-hearing-2/
LOCATION:450 Child St – Board of Directors meeting room\, 450 Child Street\, Warren\, RI\, 02885\, United States
GEO:41.7295903;-71.2660282
X-APPLE-STRUCTURED-LOCATION;VALUE=URI;X-ADDRESS=450 Child St – Board of Directors meeting room 450 Child Street Warren RI 02885 United States;X-APPLE-RADIUS=500;X-TITLE=450 Child Street:geo:-71.2660282,41.7295903
END:VEVENT
BEGIN:VEVENT
DTSTART;TZID=America/New_York:20220127T170000
DTEND;TZID=America/New_York:20220127T173000
DTSTAMP:20260422T143721
CREATED:20220121T181641Z
LAST-MODIFIED:20220121T182333Z
UID:10000546-1643302800-1643304600@bcwari.com
SUMMARY:Personnel/Compensation Committee Meeting
DESCRIPTION:450 Child St – Board of Directors meeting room
URL:https://bcwari.com/event/personnel-compensation-committee-meeting-6/
LOCATION:450 Child St – Board of Directors meeting room\, 450 Child Street\, Warren\, RI\, 02885\, United States
GEO:41.7295903;-71.2660282
X-APPLE-STRUCTURED-LOCATION;VALUE=URI;X-ADDRESS=450 Child St – Board of Directors meeting room 450 Child Street Warren RI 02885 United States;X-APPLE-RADIUS=500;X-TITLE=450 Child Street:geo:-71.2660282,41.7295903
END:VEVENT
BEGIN:VEVENT
DTSTART;TZID=America/New_York:20220106T170000
DTEND;TZID=America/New_York:20220106T183000
DTSTAMP:20260422T143721
CREATED:20211230T201543Z
LAST-MODIFIED:20211230T201621Z
UID:10000544-1641488400-1641493800@bcwari.com
SUMMARY:Personnel/Compensation Committee Meeting
DESCRIPTION:450 Child St – Board of Directors meeting room
URL:https://bcwari.com/event/personnel-compensation-committee-meeting-5/
LOCATION:450 Child St – Board of Directors meeting room\, 450 Child Street\, Warren\, RI\, 02885\, United States
GEO:41.7295903;-71.2660282
X-APPLE-STRUCTURED-LOCATION;VALUE=URI;X-ADDRESS=450 Child St – Board of Directors meeting room 450 Child Street Warren RI 02885 United States;X-APPLE-RADIUS=500;X-TITLE=450 Child Street:geo:-71.2660282,41.7295903
END:VEVENT
BEGIN:VEVENT
DTSTART;TZID=America/New_York:20211209T170000
DTEND;TZID=America/New_York:20211209T190000
DTSTAMP:20260422T143721
CREATED:20201230T161103Z
LAST-MODIFIED:20211207T193655Z
UID:10000521-1639069200-1639076400@bcwari.com
SUMMARY:Board of Directors Meeting
DESCRIPTION:450 Child St – Board of Directors meeting room
URL:https://bcwari.com/event/board-of-directors-meeting-59/
LOCATION:450 Child St – Board of Directors meeting room\, 450 Child Street\, Warren\, RI\, 02885\, United States
GEO:41.7295903;-71.2660282
X-APPLE-STRUCTURED-LOCATION;VALUE=URI;X-ADDRESS=450 Child St – Board of Directors meeting room 450 Child Street Warren RI 02885 United States;X-APPLE-RADIUS=500;X-TITLE=450 Child Street:geo:-71.2660282,41.7295903
END:VEVENT
BEGIN:VEVENT
DTSTART;TZID=America/New_York:20211117T170000
DTEND;TZID=America/New_York:20211117T190000
DTSTAMP:20260422T143721
CREATED:20201230T161017Z
LAST-MODIFIED:20211115T161042Z
UID:10000520-1637168400-1637175600@bcwari.com
SUMMARY:Finance Committee Meeting
DESCRIPTION:450 Child St – Board of Directors meeting room
URL:https://bcwari.com/event/board-of-directors-meeting-58/
LOCATION:450 Child St – Board of Directors meeting room\, 450 Child Street\, Warren\, RI\, 02885\, United States
GEO:41.7295903;-71.2660282
X-APPLE-STRUCTURED-LOCATION;VALUE=URI;X-ADDRESS=450 Child St – Board of Directors meeting room 450 Child Street Warren RI 02885 United States;X-APPLE-RADIUS=500;X-TITLE=450 Child Street:geo:-71.2660282,41.7295903
END:VEVENT
BEGIN:VEVENT
DTSTART;TZID=America/New_York:20211028T170000
DTEND;TZID=America/New_York:20211028T190000
DTSTAMP:20260422T143721
CREATED:20201230T160932Z
LAST-MODIFIED:20211022T160027Z
UID:10000519-1635440400-1635447600@bcwari.com
SUMMARY:Board of Directors Meeting
DESCRIPTION:  \n450 Child St – Board of Directors meeting room
URL:https://bcwari.com/event/board-of-directors-meeting-57/
LOCATION:450 Child St – Board of Directors meeting room\, 450 Child Street\, Warren\, RI\, 02885\, United States
GEO:41.7295903;-71.2660282
X-APPLE-STRUCTURED-LOCATION;VALUE=URI;X-ADDRESS=450 Child St – Board of Directors meeting room 450 Child Street Warren RI 02885 United States;X-APPLE-RADIUS=500;X-TITLE=450 Child Street:geo:-71.2660282,41.7295903
END:VEVENT
BEGIN:VEVENT
DTSTART;TZID=America/New_York:20210923T170000
DTEND;TZID=America/New_York:20210923T190000
DTSTAMP:20260422T143721
CREATED:20201230T160832Z
LAST-MODIFIED:20210917T172229Z
UID:10000518-1632416400-1632423600@bcwari.com
SUMMARY:Board of Directors Meeting
DESCRIPTION:450 Child St – Board of Directors meeting room
URL:https://bcwari.com/event/board-of-directors-meeting-56/
LOCATION:450 Child St – Board of Directors meeting room\, 450 Child Street\, Warren\, RI\, 02885\, United States
GEO:41.7295903;-71.2660282
X-APPLE-STRUCTURED-LOCATION;VALUE=URI;X-ADDRESS=450 Child St – Board of Directors meeting room 450 Child Street Warren RI 02885 United States;X-APPLE-RADIUS=500;X-TITLE=450 Child Street:geo:-71.2660282,41.7295903
END:VEVENT
BEGIN:VEVENT
DTSTART;TZID=America/New_York:20210826T170000
DTEND;TZID=America/New_York:20210826T190000
DTSTAMP:20260422T143721
CREATED:20201230T160704Z
LAST-MODIFIED:20210820T164017Z
UID:10000517-1629997200-1630004400@bcwari.com
SUMMARY:Board of Directors Meeting
DESCRIPTION:450 Child St – Board of Directors meeting room
URL:https://bcwari.com/event/board-of-directors-meeting-55/
LOCATION:450 Child St – Board of Directors meeting room\, 450 Child Street\, Warren\, RI\, 02885\, United States
GEO:41.7295903;-71.2660282
X-APPLE-STRUCTURED-LOCATION;VALUE=URI;X-ADDRESS=450 Child St – Board of Directors meeting room 450 Child Street Warren RI 02885 United States;X-APPLE-RADIUS=500;X-TITLE=450 Child Street:geo:-71.2660282,41.7295903
END:VEVENT
BEGIN:VEVENT
DTSTART;TZID=America/New_York:20210722T173000
DTEND;TZID=America/New_York:20210722T193000
DTSTAMP:20260422T143721
CREATED:20201230T160611Z
LAST-MODIFIED:20210716T152809Z
UID:10000516-1626975000-1626982200@bcwari.com
SUMMARY:Board of Directors Meeting
DESCRIPTION:450 Child St – Board of Directors meeting room
URL:https://bcwari.com/event/board-of-directors-meeting-54/
LOCATION:450 Child St – Board of Directors meeting room\, 450 Child Street\, Warren\, RI\, 02885\, United States
GEO:41.7295903;-71.2660282
X-APPLE-STRUCTURED-LOCATION;VALUE=URI;X-ADDRESS=450 Child St – Board of Directors meeting room 450 Child Street Warren RI 02885 United States;X-APPLE-RADIUS=500;X-TITLE=450 Child Street:geo:-71.2660282,41.7295903
END:VEVENT
BEGIN:VEVENT
DTSTART;TZID=America/New_York:20210624T173000
DTEND;TZID=America/New_York:20210624T193000
DTSTAMP:20260422T143721
CREATED:20201230T160500Z
LAST-MODIFIED:20210621T125824Z
UID:10000515-1624555800-1624563000@bcwari.com
SUMMARY:Board of Directors Meeting
DESCRIPTION:Click here to view or download board documents. \n\n		\n			\n			\n		\n\n		\n450 Child St – Board of Directors meeting room
URL:https://bcwari.com/event/board-of-directors-meeting-53/
LOCATION:450 Child St – Board of Directors meeting room\, 450 Child Street\, Warren\, RI\, 02885\, United States
GEO:41.7295903;-71.2660282
X-APPLE-STRUCTURED-LOCATION;VALUE=URI;X-ADDRESS=450 Child St – Board of Directors meeting room 450 Child Street Warren RI 02885 United States;X-APPLE-RADIUS=500;X-TITLE=450 Child Street:geo:-71.2660282,41.7295903
END:VEVENT
BEGIN:VEVENT
DTSTART;TZID=America/New_York:20210603T163000
DTEND;TZID=America/New_York:20210603T173000
DTSTAMP:20260422T143721
CREATED:20210601T161852Z
LAST-MODIFIED:20210603T151607Z
UID:10000534-1622737800-1622741400@bcwari.com
SUMMARY:Special Board of Directors Meeting
DESCRIPTION:450 Child St – Board of Directors meeting room
URL:https://bcwari.com/event/special-board-of-directors-meeting-7/
LOCATION:450 Child St – Board of Directors meeting room\, 450 Child Street\, Warren\, RI\, 02885\, United States
GEO:41.7295903;-71.2660282
X-APPLE-STRUCTURED-LOCATION;VALUE=URI;X-ADDRESS=450 Child St – Board of Directors meeting room 450 Child Street Warren RI 02885 United States;X-APPLE-RADIUS=500;X-TITLE=450 Child Street:geo:-71.2660282,41.7295903
END:VEVENT
BEGIN:VEVENT
DTSTART;TZID=America/New_York:20210527T170000
DTEND;TZID=America/New_York:20210527T183000
DTSTAMP:20260422T143721
CREATED:20201230T160422Z
LAST-MODIFIED:20210524T165019Z
UID:10000514-1622134800-1622140200@bcwari.com
SUMMARY:Board of Directors Meeting
DESCRIPTION:Click here to view or download the meeting documents \n\n		\n			\n			\n		\n\n		\n450 Child St – Board of Directors meeting room
URL:https://bcwari.com/event/board-of-directors-meeting-52/
LOCATION:450 Child St – Board of Directors meeting room\, 450 Child Street\, Warren\, RI\, 02885\, United States
GEO:41.7295903;-71.2660282
X-APPLE-STRUCTURED-LOCATION;VALUE=URI;X-ADDRESS=450 Child St – Board of Directors meeting room 450 Child Street Warren RI 02885 United States;X-APPLE-RADIUS=500;X-TITLE=450 Child Street:geo:-71.2660282,41.7295903
END:VEVENT
BEGIN:VEVENT
DTSTART;TZID=America/New_York:20210527T163000
DTEND;TZID=America/New_York:20210527T170000
DTSTAMP:20260422T143721
CREATED:20210524T164614Z
LAST-MODIFIED:20210524T164614Z
UID:10000531-1622133000-1622134800@bcwari.com
SUMMARY:Annual Meeting
DESCRIPTION:450 Child St – Board of Directors meeting room
URL:https://bcwari.com/event/annual-meeting-5/
LOCATION:450 Child St – Board of Directors meeting room\, 450 Child Street\, Warren\, RI\, 02885\, United States
GEO:41.7295903;-71.2660282
X-APPLE-STRUCTURED-LOCATION;VALUE=URI;X-ADDRESS=450 Child St – Board of Directors meeting room 450 Child Street Warren RI 02885 United States;X-APPLE-RADIUS=500;X-TITLE=450 Child Street:geo:-71.2660282,41.7295903
END:VEVENT
BEGIN:VEVENT
DTSTART;TZID=America/New_York:20210422T163000
DTEND;TZID=America/New_York:20210422T183000
DTSTAMP:20260422T143721
CREATED:20201230T160121Z
LAST-MODIFIED:20210416T190829Z
UID:10000513-1619109000-1619116200@bcwari.com
SUMMARY:Board of Directors Meeting
DESCRIPTION:Click here to view or download the Board documents. \n\n		\n			\n			\n		\n\n		\n450 Child St – Board of Directors meeting room
URL:https://bcwari.com/event/board-of-directors-meeting-51/
LOCATION:450 Child St – Board of Directors meeting room\, 450 Child Street\, Warren\, RI\, 02885\, United States
GEO:41.7295903;-71.2660282
X-APPLE-STRUCTURED-LOCATION;VALUE=URI;X-ADDRESS=450 Child St – Board of Directors meeting room 450 Child Street Warren RI 02885 United States;X-APPLE-RADIUS=500;X-TITLE=450 Child Street:geo:-71.2660282,41.7295903
END:VEVENT
BEGIN:VEVENT
DTSTART;TZID=America/New_York:20210325T163000
DTEND;TZID=America/New_York:20210325T180000
DTSTAMP:20260422T143721
CREATED:20210319T183018Z
LAST-MODIFIED:20210322T153322Z
UID:10000530-1616689800-1616695200@bcwari.com
SUMMARY:Board of Directors Meeting
DESCRIPTION:Click here to view/download Board Documents. \n\n		\n			\n			\n		\n\n		\n450 Child St – Board of Directors meeting room
URL:https://bcwari.com/event/board-of-directors-meeting-47/
LOCATION:450 Child St – Board of Directors meeting room\, 450 Child Street\, Warren\, RI\, 02885\, United States
GEO:41.7295903;-71.2660282
X-APPLE-STRUCTURED-LOCATION;VALUE=URI;X-ADDRESS=450 Child St – Board of Directors meeting room 450 Child Street Warren RI 02885 United States;X-APPLE-RADIUS=500;X-TITLE=450 Child Street:geo:-71.2660282,41.7295903
END:VEVENT
BEGIN:VEVENT
DTSTART;TZID=America/New_York:20210225T163000
DTEND;TZID=America/New_York:20210225T183000
DTSTAMP:20260422T143721
CREATED:20201230T155713Z
LAST-MODIFIED:20210223T152502Z
UID:10000512-1614270600-1614277800@bcwari.com
SUMMARY:Board of Directors Meeting
DESCRIPTION:Click here to view or download meeting documents \n\n		\n			\n			\n		\n\n		\n450 Child St – Board of Directors meeting room
URL:https://bcwari.com/event/board-of-directors-meeting-49/
LOCATION:450 Child St – Board of Directors meeting room\, 450 Child Street\, Warren\, RI\, 02885\, United States
GEO:41.7295903;-71.2660282
X-APPLE-STRUCTURED-LOCATION;VALUE=URI;X-ADDRESS=450 Child St – Board of Directors meeting room 450 Child Street Warren RI 02885 United States;X-APPLE-RADIUS=500;X-TITLE=450 Child Street:geo:-71.2660282,41.7295903
END:VEVENT
BEGIN:VEVENT
DTSTART;TZID=America/New_York:20210225T161500
DTEND;TZID=America/New_York:20210225T163000
DTSTAMP:20260422T143721
CREATED:20210219T203922Z
LAST-MODIFIED:20210223T151558Z
UID:10000527-1614269700-1614270600@bcwari.com
SUMMARY:Finance Committee Meeting
DESCRIPTION:Click here to view or download meeting documents \n\n		\n			\n			\n		\n\n		\n450 Child St – Board of Directors meeting room
URL:https://bcwari.com/event/finance-committee-meeting-8/
LOCATION:450 Child St – Board of Directors meeting room\, 450 Child Street\, Warren\, RI\, 02885\, United States
GEO:41.7295903;-71.2660282
X-APPLE-STRUCTURED-LOCATION;VALUE=URI;X-ADDRESS=450 Child St – Board of Directors meeting room 450 Child Street Warren RI 02885 United States;X-APPLE-RADIUS=500;X-TITLE=450 Child Street:geo:-71.2660282,41.7295903
END:VEVENT
BEGIN:VEVENT
DTSTART;TZID=America/New_York:20210225T153000
DTEND;TZID=America/New_York:20210225T161500
DTSTAMP:20260422T143721
CREATED:20210219T205823Z
LAST-MODIFIED:20210223T152024Z
UID:10000528-1614267000-1614269700@bcwari.com
SUMMARY:Meeting of the Personnel Committee of the BCWA Board of Directors
DESCRIPTION:Click here to view or download meeting documents \n\n		\n			\n			\n		\n\n		\n450 Child St – Board of Directors meeting room
URL:https://bcwari.com/event/meeting-of-the-personnel-committee-of-the-bcwa-board-of-directors-4/
LOCATION:450 Child St – Board of Directors meeting room\, 450 Child Street\, Warren\, RI\, 02885\, United States
GEO:41.7295903;-71.2660282
X-APPLE-STRUCTURED-LOCATION;VALUE=URI;X-ADDRESS=450 Child St – Board of Directors meeting room 450 Child Street Warren RI 02885 United States;X-APPLE-RADIUS=500;X-TITLE=450 Child Street:geo:-71.2660282,41.7295903
END:VEVENT
BEGIN:VEVENT
DTSTART;TZID=America/New_York:20210218T183000
DTEND;TZID=America/New_York:20210218T193000
DTSTAMP:20260422T143721
CREATED:20210205T171707Z
LAST-MODIFIED:20210211T150149Z
UID:10000526-1613673000-1613676600@bcwari.com
SUMMARY:Zoom meeting regarding the removal of the Kickemuit Dams
DESCRIPTION:The BCWA is holding a Zoom meeting with the Kickemuit Condo Association regarding the removal of the Kickemuit Dams. Pare engineers will present information on how the breaching of the dam will affect the area of the condo facilities during and following the partial removal. \nWhen:  Tuesday\, February 18\, 2021\, at 6:30 PM \nZoom Access: \nJoin Zoom Meeting – click on the link below:\nhttps://us02web.zoom.us/j/83564004532?pwd=MFFlemRERmNoblU3V2dwM0wvTXhDUT09 \nAdditional access by phone: \nMeeting ID: 835 6400 4532\nPasscode: 113759\nOne tap mobile\n+19294362866\,\,83564004532#\,\,\,\,*113759# US (New York) \nDial by your location\n+1 929 436 2866 US (New York) \n450 Child St – Board of Directors meeting room
URL:https://bcwari.com/event/zoom-meeting-regarding-the-removal-of-the-kickemuit-dams/
LOCATION:450 Child St – Board of Directors meeting room\, 450 Child Street\, Warren\, RI\, 02885\, United States
GEO:41.7295903;-71.2660282
X-APPLE-STRUCTURED-LOCATION;VALUE=URI;X-ADDRESS=450 Child St – Board of Directors meeting room 450 Child Street Warren RI 02885 United States;X-APPLE-RADIUS=500;X-TITLE=450 Child Street:geo:-71.2660282,41.7295903
END:VEVENT
BEGIN:VEVENT
DTSTART;TZID=America/New_York:20210128T180000
DTEND;TZID=America/New_York:20210128T183000
DTSTAMP:20260422T143721
CREATED:20210113T202900Z
LAST-MODIFIED:20210125T160158Z
UID:10000524-1611856800-1611858600@bcwari.com
SUMMARY:PUBLIC HEARING - Rate Increase
DESCRIPTION:450 Child St – Board of Directors meeting room
URL:https://bcwari.com/event/public-hearing-rate-increase/
LOCATION:450 Child St – Board of Directors meeting room\, 450 Child Street\, Warren\, RI\, 02885\, United States
GEO:41.7295903;-71.2660282
X-APPLE-STRUCTURED-LOCATION;VALUE=URI;X-ADDRESS=450 Child St – Board of Directors meeting room 450 Child Street Warren RI 02885 United States;X-APPLE-RADIUS=500;X-TITLE=450 Child Street:geo:-71.2660282,41.7295903
END:VEVENT
BEGIN:VEVENT
DTSTART;TZID=America/New_York:20210128T063000
DTEND;TZID=America/New_York:20210128T200000
DTSTAMP:20260422T143721
CREATED:20210125T155648Z
LAST-MODIFIED:20210125T200930Z
UID:10000525-1611815400-1611864000@bcwari.com
SUMMARY:Board of Directors Meeting
DESCRIPTION:Click here to view or download the meeting documents \n\n		\n			\n			\n		\n\n		\n450 Child St – Board of Directors meeting room
URL:https://bcwari.com/event/board-of-directors-meeting-60/
LOCATION:450 Child St – Board of Directors meeting room\, 450 Child Street\, Warren\, RI\, 02885\, United States
GEO:41.7295903;-71.2660282
X-APPLE-STRUCTURED-LOCATION;VALUE=URI;X-ADDRESS=450 Child St – Board of Directors meeting room 450 Child Street Warren RI 02885 United States;X-APPLE-RADIUS=500;X-TITLE=450 Child Street:geo:-71.2660282,41.7295903
END:VEVENT
BEGIN:VEVENT
DTSTART;TZID=America/New_York:20210105T163000
DTEND;TZID=America/New_York:20210105T173000
DTSTAMP:20260422T143721
CREATED:20201231T163803Z
LAST-MODIFIED:20201231T164532Z
UID:10000522-1609864200-1609867800@bcwari.com
SUMMARY:Special Board of Directors Meeting
DESCRIPTION:Click here to view/download meeting documents \n\n		\n			\n			\n		\n\n		\n450 Child St – Board of Directors meeting room
URL:https://bcwari.com/event/special-board-of-directors-meeting-6/
LOCATION:450 Child St – Board of Directors meeting room\, 450 Child Street\, Warren\, RI\, 02885\, United States
GEO:41.7295903;-71.2660282
X-APPLE-STRUCTURED-LOCATION;VALUE=URI;X-ADDRESS=450 Child St – Board of Directors meeting room 450 Child Street Warren RI 02885 United States;X-APPLE-RADIUS=500;X-TITLE=450 Child Street:geo:-71.2660282,41.7295903
END:VEVENT
BEGIN:VEVENT
DTSTART;TZID=America/New_York:20210105T160000
DTEND;TZID=America/New_York:20210105T163000
DTSTAMP:20260422T143721
CREATED:20201231T170020Z
LAST-MODIFIED:20201231T170728Z
UID:10000523-1609862400-1609864200@bcwari.com
SUMMARY:Finance Committee Meeting
DESCRIPTION:Click here to view/download meeting documents \n\n		\n			\n			\n		\n\n		\n450 Child St – Board of Directors meeting room
URL:https://bcwari.com/event/finance-committee-meeting-7/
LOCATION:450 Child St – Board of Directors meeting room\, 450 Child Street\, Warren\, RI\, 02885\, United States
GEO:41.7295903;-71.2660282
X-APPLE-STRUCTURED-LOCATION;VALUE=URI;X-ADDRESS=450 Child St – Board of Directors meeting room 450 Child Street Warren RI 02885 United States;X-APPLE-RADIUS=500;X-TITLE=450 Child Street:geo:-71.2660282,41.7295903
END:VEVENT
BEGIN:VEVENT
DTSTART;TZID=America/New_York:20201216T163000
DTEND;TZID=America/New_York:20201216T163000
DTSTAMP:20260422T143721
CREATED:20201214T155521Z
LAST-MODIFIED:20210104T200713Z
UID:10000510-1608136200-1608136200@bcwari.com
SUMMARY:Board of Directors Meeting
DESCRIPTION:Click here to download/view the presentation documents \nClick here to to download/view the board meeting documents   \n  \n\n		\n			\n			\n		\n\n		\n450 Child St – Board of Directors meeting room
URL:https://bcwari.com/event/board-of-directors-meeting-43/
LOCATION:450 Child St – Board of Directors meeting room\, 450 Child Street\, Warren\, RI\, 02885\, United States
GEO:41.7295903;-71.2660282
X-APPLE-STRUCTURED-LOCATION;VALUE=URI;X-ADDRESS=450 Child St – Board of Directors meeting room 450 Child Street Warren RI 02885 United States;X-APPLE-RADIUS=500;X-TITLE=450 Child Street:geo:-71.2660282,41.7295903
END:VEVENT
BEGIN:VEVENT
DTSTART;TZID=America/New_York:20201215T180000
DTEND;TZID=America/New_York:20201215T180000
DTSTAMP:20260422T143721
CREATED:20201214T161130Z
LAST-MODIFIED:20201214T161130Z
UID:10000511-1608055200-1608055200@bcwari.com
SUMMARY:Kickemuit Dam Removal Study – Public Meeting
DESCRIPTION:The BCWA is inviting the Kickemuit Reservoir abutters and the public to attend a meeting on Zoom on Tuesday\, December 15th\, at 6:00 pm. \nThe meeting is to provide an update on the study to remove the dams and to receive any comments or concerns of the abutters and the public.   The BCWA intends to answer questions at the meeting\, unless an issue requires further research.  See zoom information below to attend the meeting. \nPam Marchand \n  \nZoom info: \nJoin Zoom Meeting\nhttps://us02web.zoom.us/j/83612290950?pwd=aGFWOUxNekQvcHhaSFlta0NublJoZz09 \nPlease mute your audio before entering the meeting to reduce background noise. \nMeeting ID: 836 1229 0950\nPasscode: 946993 \nOne tap mobile\n+13017158592\,\,83612290950#\,\,\,\,\,\,0#\,\,946993# US (Washington D.C)\n+13126266799\,\,83612290950#\,\,\,\,\,\,0#\,\,946993# US (Chicago) \nDial by phone\n+1 929 436 2866 US (New York)\nMeeting ID: 836 1229 0950\nPasscode: 946993 \n450 Child St – Board of Directors meeting room
URL:https://bcwari.com/event/kickemuit-dam-removal-study-public-meeting-2/
LOCATION:450 Child St – Board of Directors meeting room\, 450 Child Street\, Warren\, RI\, 02885\, United States
GEO:41.7295903;-71.2660282
X-APPLE-STRUCTURED-LOCATION;VALUE=URI;X-ADDRESS=450 Child St – Board of Directors meeting room 450 Child Street Warren RI 02885 United States;X-APPLE-RADIUS=500;X-TITLE=450 Child Street:geo:-71.2660282,41.7295903
END:VEVENT
BEGIN:VEVENT
DTSTART;TZID=America/New_York:20201208T113000
DTEND;TZID=America/New_York:20201208T133000
DTSTAMP:20260422T143721
CREATED:20201204T021220Z
LAST-MODIFIED:20201209T022820Z
UID:10000509-1607427000-1607434200@bcwari.com
SUMMARY:Finance Committee Meeting
DESCRIPTION:450 Child St – Board of Directors meeting room
URL:https://bcwari.com/event/special-board-of-directors-meeting-5/
LOCATION:450 Child St – Board of Directors meeting room\, 450 Child Street\, Warren\, RI\, 02885\, United States
GEO:41.7295903;-71.2660282
X-APPLE-STRUCTURED-LOCATION;VALUE=URI;X-ADDRESS=450 Child St – Board of Directors meeting room 450 Child Street Warren RI 02885 United States;X-APPLE-RADIUS=500;X-TITLE=450 Child Street:geo:-71.2660282,41.7295903
END:VEVENT
END:VCALENDAR